BEGIN:VCALENDAR
VERSION:2.0
PRODID:-//Plone.org//NONSGML plone.app.event//EN
X-WR-TIMEZONE:Europe/Berlin
BEGIN:VEVENT
SUMMARY:Back to the Fatherland
DTSTART;TZID=Europe/Berlin:20240131T193000
DTSTAMP:20260421T221256Z
UID:8a6fce2833b04875a1f2d9a32834a5b7@zmi.spielboden.at
CREATED:20231130T075341Z
LAST-MODIFIED:20240131T101044Z
URL:https://zmi.spielboden.at/Plone/veranstaltungen/2024/01_jaenner/back-t
 o-the-fatherland-1
END:VEVENT
BEGIN:VTIMEZONE
TZID:Europe/Berlin
X-LIC-LOCATION:Europe/Berlin
BEGIN:STANDARD
DTSTART:20231029T020000
TZNAME:CET
TZOFFSETFROM:+0200
TZOFFSETTO:+0100
END:STANDARD
END:VTIMEZONE
END:VCALENDAR
