BEGIN:VCALENDAR
VERSION:2.0
PRODID:-//Plone.org//NONSGML plone.app.event//EN
X-WR-TIMEZONE:Europe/Berlin
BEGIN:VEVENT
SUMMARY:Architektur und Film: "Hägi Wendls" & "Architecture for Change"
DTSTART;TZID=Europe/Berlin:20240103T193000
DTSTAMP:20260421T163935Z
UID:e328dd323ca146dab8af81a2613af364@zmi.spielboden.at
CREATED:20231213T114107Z
LAST-MODIFIED:20240103T145933Z
URL:https://zmi.spielboden.at/Plone/veranstaltungen/2024/01_jaenner/archit
 ektur-und-film-haegi-wendls
END:VEVENT
BEGIN:VTIMEZONE
TZID:Europe/Berlin
X-LIC-LOCATION:Europe/Berlin
BEGIN:STANDARD
DTSTART:20231029T020000
TZNAME:CET
TZOFFSETFROM:+0200
TZOFFSETTO:+0100
END:STANDARD
END:VTIMEZONE
END:VCALENDAR
