BEGIN:VCALENDAR
VERSION:2.0
PRODID:-//Plone.org//NONSGML plone.app.event//EN
X-WR-TIMEZONE:Europe/Berlin
BEGIN:VEVENT
SUMMARY:Architektur und Film: "Hägi Wendls" & "Architecture for Change"
DTSTART;TZID=Europe/Berlin:20240110T193000
DTSTAMP:20260421T163926Z
UID:061b8187ea1143b9ab9288cdd6baf3e6@zmi.spielboden.at
CREATED:20231213T114600Z
LAST-MODIFIED:20240110T162455Z
URL:https://zmi.spielboden.at/Plone/veranstaltungen/2024/01_jaenner/archit
 ektur-und-film-haegi-wendls-1
END:VEVENT
BEGIN:VTIMEZONE
TZID:Europe/Berlin
X-LIC-LOCATION:Europe/Berlin
BEGIN:STANDARD
DTSTART:20231029T020000
TZNAME:CET
TZOFFSETFROM:+0200
TZOFFSETTO:+0100
END:STANDARD
END:VTIMEZONE
END:VCALENDAR
