BEGIN:VCALENDAR
VERSION:2.0
PRODID:-//Plone.org//NONSGML plone.app.event//EN
X-WR-TIMEZONE:Europe/Berlin
BEGIN:VEVENT
SUMMARY:Im Himmel ist auch Platz für Mäuse
DTSTART;TZID=Europe/Berlin:20230506T150000
DTSTAMP:20260421T163637Z
UID:04f8553bc1a94e648e50904f189780ad@zmi.spielboden.at
CREATED:20230331T124401Z
LAST-MODIFIED:20230505T092416Z
URL:https://zmi.spielboden.at/Plone/veranstaltungen/2023/mai/im-himmel-ist
 -auch-platz-fuer-maeuse
END:VEVENT
BEGIN:VTIMEZONE
TZID:Europe/Berlin
X-LIC-LOCATION:Europe/Berlin
BEGIN:DAYLIGHT
DTSTART:20230326T030000
TZNAME:CEST
TZOFFSETFROM:+0100
TZOFFSETTO:+0200
END:DAYLIGHT
END:VTIMEZONE
END:VCALENDAR
