BEGIN:VCALENDAR
VERSION:2.0
PRODID:-//Plone.org//NONSGML plone.app.event//EN
X-WR-TIMEZONE:Europe/Berlin
BEGIN:VEVENT
SUMMARY:tanz ist Festival: CLARA FUREY (CAN) – Rather a Ditch (Gallery V
 ersion)
DTSTART;TZID=Europe/Berlin:20230610T193000
DTSTAMP:20260421T121017Z
UID:48510ba735334d219537621db0626c62@zmi.spielboden.at
CREATED:20230321T123838Z
DESCRIPTION:Die durchlässigen Grenzen zwischen Leben und Tod…
LAST-MODIFIED:20230607T082641Z
URL:https://zmi.spielboden.at/Plone/veranstaltungen/2023/juni/tanz-ist-fes
 tival-clara-furey-can-when-even-the
END:VEVENT
BEGIN:VTIMEZONE
TZID:Europe/Berlin
X-LIC-LOCATION:Europe/Berlin
BEGIN:DAYLIGHT
DTSTART:20230326T030000
TZNAME:CEST
TZOFFSETFROM:+0100
TZOFFSETTO:+0200
END:DAYLIGHT
END:VTIMEZONE
END:VCALENDAR
