BEGIN:VCALENDAR
VERSION:2.0
PRODID:-//Plone.org//NONSGML plone.app.event//EN
X-WR-TIMEZONE:Europe/Berlin
BEGIN:VEVENT
SUMMARY:Peter Madsen and CIA play Silent Movies - "The Seashell and the Cl
 ergyman" und "Die Abenteuer des Prinzen Achmed"
DTSTART;TZID=Europe/Berlin:20230621T200000
DTSTAMP:20260421T115203Z
UID:9ccdb1f7ba2a4c6ebfed6997cddce8ee@zmi.spielboden.at
CREATED:20230511T080751Z
LAST-MODIFIED:20230621T091601Z
URL:https://zmi.spielboden.at/Plone/veranstaltungen/2023/juni/peter-madsen
 -and-cia-play-silent-movies-the-seashell-and-the-clergyman-und-die-abenteu
 er-des-prinzen-achmed
END:VEVENT
BEGIN:VTIMEZONE
TZID:Europe/Berlin
X-LIC-LOCATION:Europe/Berlin
BEGIN:DAYLIGHT
DTSTART:20230326T030000
TZNAME:CEST
TZOFFSETFROM:+0100
TZOFFSETTO:+0200
END:DAYLIGHT
END:VTIMEZONE
END:VCALENDAR
