BEGIN:VCALENDAR
VERSION:2.0
PRODID:-//Plone.org//NONSGML plone.app.event//EN
X-WR-TIMEZONE:Europe/Berlin
BEGIN:VEVENT
SUMMARY:Namrud
DTSTART;TZID=Europe/Berlin:20230124T193000
DTSTAMP:20260419T163718Z
UID:18cecaee0ec2454a9eb9044e1ce2f26a@zmi.spielboden.at
CREATED:20221124T072929Z
LAST-MODIFIED:20230118T095920Z
URL:https://zmi.spielboden.at/Plone/veranstaltungen/2023/jaenner/namrud-1
END:VEVENT
BEGIN:VTIMEZONE
TZID:Europe/Berlin
X-LIC-LOCATION:Europe/Berlin
BEGIN:STANDARD
DTSTART:20221030T020000
TZNAME:CET
TZOFFSETFROM:+0200
TZOFFSETTO:+0100
END:STANDARD
END:VTIMEZONE
END:VCALENDAR
