BEGIN:VCALENDAR
VERSION:2.0
PRODID:-//Plone.org//NONSGML plone.app.event//EN
X-WR-TIMEZONE:Europe/Berlin
BEGIN:VEVENT
SUMMARY:maschek - Das war 2022
DTSTART;TZID=Europe/Berlin:20230113T200000
DTSTAMP:20260421T220136Z
UID:3264942211f04367881fdc25ca3eabc8@zmi.spielboden.at
CREATED:20221103T071520Z
LAST-MODIFIED:20230113T161405Z
URL:https://zmi.spielboden.at/Plone/veranstaltungen/2023/jaenner/maschek-d
 as-war-2022
END:VEVENT
BEGIN:VTIMEZONE
TZID:Europe/Berlin
X-LIC-LOCATION:Europe/Berlin
BEGIN:STANDARD
DTSTART:20221030T020000
TZNAME:CET
TZOFFSETFROM:+0200
TZOFFSETTO:+0100
END:STANDARD
END:VTIMEZONE
END:VCALENDAR
