BEGIN:VCALENDAR
VERSION:2.0
PRODID:-//Plone.org//NONSGML plone.app.event//EN
X-WR-TIMEZONE:Europe/Berlin
BEGIN:VEVENT
SUMMARY:Velvet Two Stripes
DTSTART;TZID=Europe/Berlin:20231201T210000
DTSTAMP:20260421T133224Z
UID:1c54a9c704c94eaca5dde14b2d69d861@zmi.spielboden.at
CREATED:20230927T082951Z
LAST-MODIFIED:20231130T180001Z
URL:https://zmi.spielboden.at/Plone/veranstaltungen/2023/dezember/velvet-t
 wo-stripes
END:VEVENT
BEGIN:VTIMEZONE
TZID:Europe/Berlin
X-LIC-LOCATION:Europe/Berlin
BEGIN:STANDARD
DTSTART:20231029T020000
TZNAME:CET
TZOFFSETFROM:+0200
TZOFFSETTO:+0100
END:STANDARD
END:VTIMEZONE
END:VCALENDAR
