BEGIN:VCALENDAR
VERSION:2.0
PRODID:-//Plone.org//NONSGML plone.app.event//EN
X-WR-TIMEZONE:Europe/Berlin
BEGIN:VEVENT
SUMMARY:This Is Not a Burial\, It´s a Resurrection
DTSTART;TZID=Europe/Berlin:20220120T193000
DTSTAMP:20260421T134001Z
UID:59b1cace4a5548ada4bf44f858248e32@zmi.spielboden.at
CREATED:20211115T085526Z
LAST-MODIFIED:20211115T085606Z
URL:https://zmi.spielboden.at/Plone/veranstaltungen/2022/jaenner/this-is-n
 ot-a-burial-its-a-resurrection
END:VEVENT
BEGIN:VTIMEZONE
TZID:Europe/Berlin
X-LIC-LOCATION:Europe/Berlin
BEGIN:STANDARD
DTSTART:20211031T020000
TZNAME:CET
TZOFFSETFROM:+0200
TZOFFSETTO:+0100
END:STANDARD
END:VTIMEZONE
END:VCALENDAR
