BEGIN:VCALENDAR
VERSION:2.0
PRODID:-//Plone.org//NONSGML plone.app.event//EN
X-WR-TIMEZONE:Europe/Berlin
BEGIN:VEVENT
SUMMARY:Tagebuch einer Biene
DTSTART;TZID=Europe/Berlin:20220111T193000
DTSTAMP:20260421T150324Z
UID:e2500b4cf5b5403db7ff8b8165705aec@zmi.spielboden.at
CREATED:20211111T090830Z
LAST-MODIFIED:20220111T120510Z
URL:https://zmi.spielboden.at/Plone/veranstaltungen/2022/jaenner/tagebuch-
 einer-biene
END:VEVENT
BEGIN:VTIMEZONE
TZID:Europe/Berlin
X-LIC-LOCATION:Europe/Berlin
BEGIN:STANDARD
DTSTART:20211031T020000
TZNAME:CET
TZOFFSETFROM:+0200
TZOFFSETTO:+0100
END:STANDARD
END:VTIMEZONE
END:VCALENDAR
