BEGIN:VCALENDAR
VERSION:2.0
PRODID:-//Plone.org//NONSGML plone.app.event//EN
X-WR-TIMEZONE:Europe/Berlin
BEGIN:VEVENT
SUMMARY:Supernova
DTSTART;TZID=Europe/Berlin:20220119T193000
DTSTAMP:20260421T150311Z
UID:07e0294af18649ce8a26fa65b12c56af@zmi.spielboden.at
CREATED:20211115T085301Z
LAST-MODIFIED:20220119T133543Z
URL:https://zmi.spielboden.at/Plone/veranstaltungen/2022/jaenner/supernova
END:VEVENT
BEGIN:VTIMEZONE
TZID:Europe/Berlin
X-LIC-LOCATION:Europe/Berlin
BEGIN:STANDARD
DTSTART:20211031T020000
TZNAME:CET
TZOFFSETFROM:+0200
TZOFFSETTO:+0100
END:STANDARD
END:VTIMEZONE
END:VCALENDAR
