BEGIN:VCALENDAR
VERSION:2.0
PRODID:-//Plone.org//NONSGML plone.app.event//EN
X-WR-TIMEZONE:Europe/Berlin
BEGIN:VEVENT
SUMMARY:Sameblod – Das Mädchen aus dem Norden
DTSTART;TZID=Europe/Berlin:20220113T193000
DTSTAMP:20260421T150625Z
UID:10a03a76608e4b30850afe2231593191@zmi.spielboden.at
CREATED:20211115T083626Z
LAST-MODIFIED:20211115T083743Z
URL:https://zmi.spielboden.at/Plone/veranstaltungen/2022/jaenner/sameblod-
 das-maedchen-aus-dem-norden
END:VEVENT
BEGIN:VTIMEZONE
TZID:Europe/Berlin
X-LIC-LOCATION:Europe/Berlin
BEGIN:STANDARD
DTSTART:20211031T020000
TZNAME:CET
TZOFFSETFROM:+0200
TZOFFSETTO:+0100
END:STANDARD
END:VTIMEZONE
END:VCALENDAR
