BEGIN:VCALENDAR
VERSION:2.0
PRODID:-//Plone.org//NONSGML plone.app.event//EN
X-WR-TIMEZONE:Europe/Berlin
BEGIN:VEVENT
SUMMARY:Pub Quiz
DTSTART;TZID=Europe/Berlin:20220121T190000
DTSTAMP:20260421T133848Z
UID:b8a070083bee4cf4b8bd15e089bc1455@zmi.spielboden.at
CREATED:20220107T111123Z
LAST-MODIFIED:20220112T072912Z
URL:https://zmi.spielboden.at/Plone/veranstaltungen/2022/jaenner/pub-quiz
END:VEVENT
BEGIN:VTIMEZONE
TZID:Europe/Berlin
X-LIC-LOCATION:Europe/Berlin
BEGIN:STANDARD
DTSTART:20211031T020000
TZNAME:CET
TZOFFSETFROM:+0200
TZOFFSETTO:+0100
END:STANDARD
END:VTIMEZONE
END:VCALENDAR
