BEGIN:VCALENDAR
VERSION:2.0
PRODID:-//Plone.org//NONSGML plone.app.event//EN
X-WR-TIMEZONE:Europe/Berlin
BEGIN:VEVENT
SUMMARY:Neue Spielräume: Auswirkungen der COVID-19-Pandemie auf den öste
 rreichischen Musikarbeitsmarkt
DTSTART;TZID=Europe/Berlin:20220113T193000
DTSTAMP:20260421T134750Z
UID:87ced11189dd4d1a98b60cdec9b90a7d@zmi.spielboden.at
CREATED:20211123T074439Z
LAST-MODIFIED:20220113T082818Z
URL:https://zmi.spielboden.at/Plone/veranstaltungen/2022/jaenner/neue-spie
 lraeume-auswirkungen-der-covid-19-pandemie-auf-den-oesterreichischen-musik
 arbeitsmarkt
END:VEVENT
BEGIN:VTIMEZONE
TZID:Europe/Berlin
X-LIC-LOCATION:Europe/Berlin
BEGIN:STANDARD
DTSTART:20211031T020000
TZNAME:CET
TZOFFSETFROM:+0200
TZOFFSETTO:+0100
END:STANDARD
END:VTIMEZONE
END:VCALENDAR
