BEGIN:VCALENDAR
VERSION:2.0
PRODID:-//Plone.org//NONSGML plone.app.event//EN
X-WR-TIMEZONE:Europe/Berlin
BEGIN:VEVENT
SUMMARY:maschek - Das war 2021
DTSTART;TZID=Europe/Berlin:20220114T200000
DTSTAMP:20260421T133807Z
UID:111bf12610074a0b96e3dcbdb94c4fdf@zmi.spielboden.at
CREATED:20210922T071301Z
LAST-MODIFIED:20220114T152212Z
URL:https://zmi.spielboden.at/Plone/veranstaltungen/2022/jaenner/maschek-d
 as-war-2021
END:VEVENT
BEGIN:VTIMEZONE
TZID:Europe/Berlin
X-LIC-LOCATION:Europe/Berlin
BEGIN:STANDARD
DTSTART:20211031T020000
TZNAME:CET
TZOFFSETFROM:+0200
TZOFFSETTO:+0100
END:STANDARD
END:VTIMEZONE
END:VCALENDAR
