BEGIN:VCALENDAR
VERSION:2.0
PRODID:-//Plone.org//NONSGML plone.app.event//EN
X-WR-TIMEZONE:Europe/Berlin
BEGIN:VEVENT
SUMMARY:maschek - Das war 2021
DTSTART;TZID=Europe/Berlin:20220115T200000
DTSTAMP:20260421T163410Z
UID:14ecba24d952468fa1a79c0999c3823b@zmi.spielboden.at
CREATED:20210922T071842Z
LAST-MODIFIED:20220115T154715Z
URL:https://zmi.spielboden.at/Plone/veranstaltungen/2022/jaenner/maschek-d
 as-war-2021-1
END:VEVENT
BEGIN:VTIMEZONE
TZID:Europe/Berlin
X-LIC-LOCATION:Europe/Berlin
BEGIN:STANDARD
DTSTART:20211031T020000
TZNAME:CET
TZOFFSETFROM:+0200
TZOFFSETTO:+0100
END:STANDARD
END:VTIMEZONE
END:VCALENDAR
