BEGIN:VCALENDAR
VERSION:2.0
PRODID:-//Plone.org//NONSGML plone.app.event//EN
X-WR-TIMEZONE:Europe/Berlin
BEGIN:VEVENT
SUMMARY:Margrit Gysin: Der Wolf und die 7 Geißlein
DTSTART;TZID=Europe/Berlin:20220115T150000
DTSTAMP:20260421T151222Z
UID:757f351ec7e0450691f19a13b3c2c043@zmi.spielboden.at
CREATED:20210908T124720Z
LAST-MODIFIED:20220112T091728Z
URL:https://zmi.spielboden.at/Plone/veranstaltungen/2022/jaenner/margrit-g
 ysin-der-wolf-und-die-7-geisslein
END:VEVENT
BEGIN:VTIMEZONE
TZID:Europe/Berlin
X-LIC-LOCATION:Europe/Berlin
BEGIN:STANDARD
DTSTART:20211031T020000
TZNAME:CET
TZOFFSETFROM:+0200
TZOFFSETTO:+0100
END:STANDARD
END:VTIMEZONE
END:VCALENDAR
