BEGIN:VCALENDAR
VERSION:2.0
PRODID:-//Plone.org//NONSGML plone.app.event//EN
X-WR-TIMEZONE:Europe/Berlin
BEGIN:VEVENT
SUMMARY:Krebshilfe Benefizkonzert - BACK AGAIN 21
DTSTART;TZID=Europe/Berlin:20220105T203000
DTSTAMP:20260421T135229Z
UID:5946975fead44fe3976a2569dbc58436@zmi.spielboden.at
CREATED:20211013T082535Z
LAST-MODIFIED:20211228T211558Z
URL:https://zmi.spielboden.at/Plone/veranstaltungen/2022/jaenner/krebshilf
 e-benefizkonzert-back-again-21
END:VEVENT
BEGIN:VTIMEZONE
TZID:Europe/Berlin
X-LIC-LOCATION:Europe/Berlin
BEGIN:STANDARD
DTSTART:20211031T020000
TZNAME:CET
TZOFFSETFROM:+0200
TZOFFSETTO:+0100
END:STANDARD
END:VTIMEZONE
END:VCALENDAR
