BEGIN:VCALENDAR
VERSION:2.0
PRODID:-//Plone.org//NONSGML plone.app.event//EN
X-WR-TIMEZONE:Europe/Berlin
BEGIN:VEVENT
SUMMARY:Kasperletheater
DTSTART;TZID=Europe/Berlin:20220205T150000
DTSTAMP:20260421T150409Z
UID:59481319a9b24887952bc6705da8b49c@zmi.spielboden.at
CREATED:20210908T122457Z
LAST-MODIFIED:20220205T121205Z
URL:https://zmi.spielboden.at/Plone/veranstaltungen/2022/jaenner/kasperlet
 heater
END:VEVENT
BEGIN:VTIMEZONE
TZID:Europe/Berlin
X-LIC-LOCATION:Europe/Berlin
BEGIN:STANDARD
DTSTART:20211031T020000
TZNAME:CET
TZOFFSETFROM:+0200
TZOFFSETTO:+0100
END:STANDARD
END:VTIMEZONE
END:VCALENDAR
