BEGIN:VCALENDAR
VERSION:2.0
PRODID:-//Plone.org//NONSGML plone.app.event//EN
X-WR-TIMEZONE:Europe/Berlin
BEGIN:VEVENT
SUMMARY:Jazz&: LBT
DTSTART;TZID=Europe/Berlin:20220120T200000
DTSTAMP:20260421T150630Z
UID:46b96697cb6844e7a20cd17e4b3487ca@zmi.spielboden.at
CREATED:20211123T072846Z
LAST-MODIFIED:20220120T130645Z
URL:https://zmi.spielboden.at/Plone/veranstaltungen/2022/jaenner/jazz-lbt-
 trio
END:VEVENT
BEGIN:VTIMEZONE
TZID:Europe/Berlin
X-LIC-LOCATION:Europe/Berlin
BEGIN:STANDARD
DTSTART:20211031T020000
TZNAME:CET
TZOFFSETFROM:+0200
TZOFFSETTO:+0100
END:STANDARD
END:VTIMEZONE
END:VCALENDAR
