BEGIN:VCALENDAR
VERSION:2.0
PRODID:-//Plone.org//NONSGML plone.app.event//EN
X-WR-TIMEZONE:Europe/Berlin
BEGIN:VEVENT
SUMMARY:GoWest Bunte Streifen: Supernova
DTSTART;TZID=Europe/Berlin:20220115T170000
DTSTAMP:20260421T134046Z
UID:294e26113a11496884e7e96a9e443e96@zmi.spielboden.at
CREATED:20211115T084459Z
LAST-MODIFIED:20220114T090037Z
URL:https://zmi.spielboden.at/Plone/veranstaltungen/2022/jaenner/gowest-bu
 nte-streifen-supernova
END:VEVENT
BEGIN:VTIMEZONE
TZID:Europe/Berlin
X-LIC-LOCATION:Europe/Berlin
BEGIN:STANDARD
DTSTART:20211031T020000
TZNAME:CET
TZOFFSETFROM:+0200
TZOFFSETTO:+0100
END:STANDARD
END:VTIMEZONE
END:VCALENDAR
