BEGIN:VCALENDAR
VERSION:2.0
PRODID:-//Plone.org//NONSGML plone.app.event//EN
X-WR-TIMEZONE:Europe/Berlin
BEGIN:VEVENT
SUMMARY:Die 10. Nacht des Fado: Carlos Leitao & Ensemble present Sofia Ram
 os
DTSTART;TZID=Europe/Berlin:20220119T200000
DTSTAMP:20260421T151247Z
UID:32af0f5560784792b19c27223bb3b4eb@zmi.spielboden.at
CREATED:20211122T094406Z
LAST-MODIFIED:20220111T123707Z
URL:https://zmi.spielboden.at/Plone/veranstaltungen/2022/jaenner/die-10-na
 cht-des-fado-carlos-leitao-ensemble-present-sofia-ramos
END:VEVENT
BEGIN:VTIMEZONE
TZID:Europe/Berlin
X-LIC-LOCATION:Europe/Berlin
BEGIN:STANDARD
DTSTART:20211031T020000
TZNAME:CET
TZOFFSETFROM:+0200
TZOFFSETTO:+0100
END:STANDARD
END:VTIMEZONE
END:VCALENDAR
