BEGIN:VCALENDAR
VERSION:2.0
PRODID:-//Plone.org//NONSGML plone.app.event//EN
X-WR-TIMEZONE:Europe/Berlin
BEGIN:VEVENT
SUMMARY:An den Rändern der Welt
DTSTART;TZID=Europe/Berlin:20220114T193000
DTSTAMP:20260421T150752Z
UID:5e6f5d6d366041e3bfd40aeab21d93f4@zmi.spielboden.at
CREATED:20211115T084036Z
LAST-MODIFIED:20220114T130353Z
URL:https://zmi.spielboden.at/Plone/veranstaltungen/2022/jaenner/an-den-ra
 endern-der-welt
END:VEVENT
BEGIN:VTIMEZONE
TZID:Europe/Berlin
X-LIC-LOCATION:Europe/Berlin
BEGIN:STANDARD
DTSTART:20211031T020000
TZNAME:CET
TZOFFSETFROM:+0200
TZOFFSETTO:+0100
END:STANDARD
END:VTIMEZONE
END:VCALENDAR
