BEGIN:VCALENDAR
VERSION:2.0
PRODID:-//Plone.org//NONSGML plone.app.event//EN
X-WR-TIMEZONE:Europe/Berlin
BEGIN:VEVENT
SUMMARY:aktionstheater ensemble: Die große Show
DTSTART;TZID=Europe/Berlin:20220127T193000
DTSTAMP:20260421T150815Z
UID:cf7dee346e1c4fa3a18bdf91b2bdd5aa@zmi.spielboden.at
CREATED:20211130T091956Z
LAST-MODIFIED:20220124T080453Z
URL:https://zmi.spielboden.at/Plone/veranstaltungen/2022/jaenner/aktionsth
 eater-ensemble-die-grosse-show
END:VEVENT
BEGIN:VTIMEZONE
TZID:Europe/Berlin
X-LIC-LOCATION:Europe/Berlin
BEGIN:STANDARD
DTSTART:20211031T020000
TZNAME:CET
TZOFFSETFROM:+0200
TZOFFSETTO:+0100
END:STANDARD
END:VTIMEZONE
END:VCALENDAR
