BEGIN:VCALENDAR
VERSION:2.0
PRODID:-//Plone.org//NONSGML plone.app.event//EN
X-WR-TIMEZONE:Europe/Berlin
BEGIN:VEVENT
SUMMARY:aktionstheater ensemble: Die große Show - Premiere
DTSTART;TZID=Europe/Berlin:20220125T193000
DTSTAMP:20260421T134246Z
UID:860a12e2bc4742969cff9f4488bda4b6@zmi.spielboden.at
CREATED:20211130T091051Z
LAST-MODIFIED:20220124T080405Z
URL:https://zmi.spielboden.at/Plone/veranstaltungen/2022/jaenner/aktionsth
 eater-ensemble-die-grosse-show-premiere
END:VEVENT
BEGIN:VTIMEZONE
TZID:Europe/Berlin
X-LIC-LOCATION:Europe/Berlin
BEGIN:STANDARD
DTSTART:20211031T020000
TZNAME:CET
TZOFFSETFROM:+0200
TZOFFSETTO:+0100
END:STANDARD
END:VTIMEZONE
END:VCALENDAR
