BEGIN:VCALENDAR
VERSION:2.0
PRODID:-//Plone.org//NONSGML plone.app.event//EN
X-WR-TIMEZONE:Europe/Berlin
BEGIN:VEVENT
SUMMARY:aktionstheater ensemble: Die große Show
DTSTART;TZID=Europe/Berlin:20220128T193000
DTSTAMP:20260421T134116Z
UID:c820a9ab336a43e187da55164349af57@zmi.spielboden.at
CREATED:20211130T092545Z
LAST-MODIFIED:20220124T080525Z
URL:https://zmi.spielboden.at/Plone/veranstaltungen/2022/jaenner/aktionsth
 eater-ensemble-die-grosse-show-1
END:VEVENT
BEGIN:VTIMEZONE
TZID:Europe/Berlin
X-LIC-LOCATION:Europe/Berlin
BEGIN:STANDARD
DTSTART:20211031T020000
TZNAME:CET
TZOFFSETFROM:+0200
TZOFFSETTO:+0100
END:STANDARD
END:VTIMEZONE
END:VCALENDAR
