BEGIN:VCALENDAR
VERSION:2.0
PRODID:-//Plone.org//NONSGML plone.app.event//EN
X-WR-TIMEZONE:Europe/Berlin
BEGIN:VEVENT
SUMMARY:Kasperletheater
DTSTART;TZID=Europe/Berlin:20221224T140000
DTSTAMP:20260421T115638Z
UID:286a408b0dd74b72bb6170c46ebb199a@zmi.spielboden.at
CREATED:20220726T073535Z
DESCRIPTION:Puppentheater ab 4 Jahren
LAST-MODIFIED:20221223T120001Z
URL:https://zmi.spielboden.at/Plone/veranstaltungen/2022/dezember/kasperle
 theater
END:VEVENT
BEGIN:VTIMEZONE
TZID:Europe/Berlin
X-LIC-LOCATION:Europe/Berlin
BEGIN:STANDARD
DTSTART:20221030T020000
TZNAME:CET
TZOFFSETFROM:+0200
TZOFFSETTO:+0100
END:STANDARD
END:VTIMEZONE
END:VCALENDAR
