BEGIN:VCALENDAR
VERSION:2.0
PRODID:-//Plone.org//NONSGML plone.app.event//EN
X-WR-TIMEZONE:Europe/Berlin
BEGIN:VEVENT
SUMMARY:SOUNDSNOISE Festival – Fuckhead\, I-Wolf & the Chainreactions\, 
 Sex Jams\, Cid Rim
DTSTART;TZID=Europe/Berlin:20140502T210000
DTSTAMP:20260420T025749Z
UID:6b859aee295d4f0dbd300dd6a390ef6a@zmi.spielboden.at
CREATED:20140318T091813Z
LAST-MODIFIED:20210809T123510Z
URL:https://zmi.spielboden.at/Plone/veranstaltungen/2014/05_mai/soundsnois
 e-festival-fuckhead-i-wolf-the-chainreactions-sex-jams-cid-rim
END:VEVENT
BEGIN:VTIMEZONE
TZID:Europe/Berlin
X-LIC-LOCATION:Europe/Berlin
BEGIN:DAYLIGHT
DTSTART:20140330T030000
TZNAME:CEST
TZOFFSETFROM:+0100
TZOFFSETTO:+0200
END:DAYLIGHT
END:VTIMEZONE
END:VCALENDAR
