BEGIN:VCALENDAR
VERSION:2.0
PRODID:-//Plone.org//NONSGML plone.app.event//EN
X-WR-TIMEZONE:Europe/Berlin
BEGIN:VEVENT
SUMMARY:X-Mas mit Mann&Klamm
DTSTART;TZID=Europe/Berlin:20121222T210000
DTSTAMP:20260422T170959Z
UID:6089d4ad106b4e62a022f145fe16793a@zmi.spielboden.at
CREATED:20121128T140146Z
LAST-MODIFIED:20121128T140155Z
URL:https://zmi.spielboden.at/Plone/veranstaltungen/2012/12_dezember/x-mas
 -mit-mann-klamm
END:VEVENT
BEGIN:VTIMEZONE
TZID:Europe/Berlin
X-LIC-LOCATION:Europe/Berlin
BEGIN:STANDARD
DTSTART:20121028T020000
TZNAME:CET
TZOFFSETFROM:+0200
TZOFFSETTO:+0100
END:STANDARD
END:VTIMEZONE
END:VCALENDAR
