BEGIN:VCALENDAR
VERSION:2.0
PRODID:-//Plone.org//NONSGML plone.app.event//EN
X-WR-TIMEZONE:Europe/Berlin
BEGIN:VEVENT
SUMMARY:X-Mas mit DJ Pr:l
DTSTART;TZID=Europe/Berlin:20121224T220000
DTSTAMP:20260422T171711Z
UID:f66883794ce448fe9d68e0e1e3bc10a5@zmi.spielboden.at
CREATED:20121113T140244Z
LAST-MODIFIED:20121113T140249Z
URL:https://zmi.spielboden.at/Plone/veranstaltungen/2012/12_dezember/x-mas
 -mit-dj-pr-l
END:VEVENT
BEGIN:VTIMEZONE
TZID:Europe/Berlin
X-LIC-LOCATION:Europe/Berlin
BEGIN:STANDARD
DTSTART:20121028T020000
TZNAME:CET
TZOFFSETFROM:+0200
TZOFFSETTO:+0100
END:STANDARD
END:VTIMEZONE
END:VCALENDAR
