BEGIN:VCALENDAR
VERSION:2.0
PRODID:-//Plone.org//NONSGML plone.app.event//EN
X-WR-TIMEZONE:Europe/Berlin
BEGIN:VEVENT
SUMMARY:X-Mas – Überraschungs DJ-Line
DTSTART;TZID=Europe/Berlin:20121228T210000
DTSTAMP:20260422T171721Z
UID:4b437f25c6c94e32871f567f505dd6a1@zmi.spielboden.at
CREATED:20121113T140354Z
LAST-MODIFIED:20121113T140400Z
URL:https://zmi.spielboden.at/Plone/veranstaltungen/2012/12_dezember/x-mas
 -2013-ueberraschungs-dj-line
END:VEVENT
BEGIN:VTIMEZONE
TZID:Europe/Berlin
X-LIC-LOCATION:Europe/Berlin
BEGIN:STANDARD
DTSTART:20121028T020000
TZNAME:CET
TZOFFSETFROM:+0200
TZOFFSETTO:+0100
END:STANDARD
END:VTIMEZONE
END:VCALENDAR
