BEGIN:VCALENDAR
VERSION:2.0
PRODID:-//Plone.org//NONSGML plone.app.event//EN
X-WR-TIMEZONE:Europe/Berlin
BEGIN:VEVENT
SUMMARY:X-Mas – Superbacon frittiert in der Kantine #2
DTSTART;TZID=Europe/Berlin:20121223T210000
DTSTAMP:20260422T171721Z
UID:9f7f39e146444006ab5a5c1e9a6c9845@zmi.spielboden.at
CREATED:20121113T140042Z
LAST-MODIFIED:20121113T140123Z
URL:https://zmi.spielboden.at/Plone/veranstaltungen/2012/12_dezember/x-mas
 -2013-superbacon-frittiert-in-der-kantine-2
END:VEVENT
BEGIN:VTIMEZONE
TZID:Europe/Berlin
X-LIC-LOCATION:Europe/Berlin
BEGIN:STANDARD
DTSTART:20121028T020000
TZNAME:CET
TZOFFSETFROM:+0200
TZOFFSETTO:+0100
END:STANDARD
END:VTIMEZONE
END:VCALENDAR
