BEGIN:VCALENDAR
VERSION:2.0
PRODID:-//Plone.org//NONSGML plone.app.event//EN
X-WR-TIMEZONE:Europe/Berlin
BEGIN:VEVENT
SUMMARY:X-Mas – Klub.Kult.Urknall
DTSTART;TZID=Europe/Berlin:20121230T210000
DTSTAMP:20260422T171404Z
UID:9da0a7c1317b4329b1e086f682d03fb5@zmi.spielboden.at
CREATED:20121113T140535Z
LAST-MODIFIED:20121113T140600Z
URL:https://zmi.spielboden.at/Plone/veranstaltungen/2012/12_dezember/x-mas
 -2013-klub-kult-urknall
END:VEVENT
BEGIN:VTIMEZONE
TZID:Europe/Berlin
X-LIC-LOCATION:Europe/Berlin
BEGIN:STANDARD
DTSTART:20121028T020000
TZNAME:CET
TZOFFSETFROM:+0200
TZOFFSETTO:+0100
END:STANDARD
END:VTIMEZONE
END:VCALENDAR
