BEGIN:VCALENDAR
VERSION:2.0
PRODID:-//Plone.org//NONSGML plone.app.event//EN
X-WR-TIMEZONE:Europe/Berlin
BEGIN:VEVENT
SUMMARY:X-Mas – Good Night and Good Luck: Der letzte Abend mit Guni und 
 Manfred
DTSTART;TZID=Europe/Berlin:20121231T220000
DTSTAMP:20260422T172207Z
UID:e6153ab553de4f928ee2f4e91bafabff@zmi.spielboden.at
CREATED:20121113T140809Z
LAST-MODIFIED:20121231T191122Z
URL:https://zmi.spielboden.at/Plone/veranstaltungen/2012/12_dezember/x-mas
 -2013-good-night-and-good-luck-der-letzte-abend-mit-guni-und-manfred
END:VEVENT
BEGIN:VTIMEZONE
TZID:Europe/Berlin
X-LIC-LOCATION:Europe/Berlin
BEGIN:STANDARD
DTSTART:20121028T020000
TZNAME:CET
TZOFFSETFROM:+0200
TZOFFSETTO:+0100
END:STANDARD
END:VTIMEZONE
END:VCALENDAR
