BEGIN:VCALENDAR
VERSION:2.0
PRODID:-//Plone.org//NONSGML plone.app.event//EN
X-WR-TIMEZONE:Europe/Berlin
BEGIN:VEVENT
SUMMARY:Peter Madsen & CIA play Silent Movies – The Last Command
DTSTART;TZID=Europe/Berlin:20121219T203000
DTSTAMP:20260422T153418Z
UID:b7f88ac20ffe43b1b7866af1b5210614@zmi.spielboden.at
CREATED:20120910T122607Z
DESCRIPTION:Josef von Sternberg – Virtuoses Spiel mit Licht und Schatten
LAST-MODIFIED:20210809T123355Z
URL:https://zmi.spielboden.at/Plone/veranstaltungen/2012/12_dezember/peter
 -madsen-cia-play-silent-movies-2013-the-last-command
END:VEVENT
BEGIN:VTIMEZONE
TZID:Europe/Berlin
X-LIC-LOCATION:Europe/Berlin
BEGIN:STANDARD
DTSTART:20121028T020000
TZNAME:CET
TZOFFSETFROM:+0200
TZOFFSETTO:+0100
END:STANDARD
END:VTIMEZONE
END:VCALENDAR
