BEGIN:VCALENDAR
VERSION:2.0
PRODID:-//Plone.org//NONSGML plone.app.event//EN
X-WR-TIMEZONE:Europe/Berlin
BEGIN:VEVENT
SUMMARY:X-Mas – Mimi und Herbert: Advent\, Advent
DTSTART;TZID=Europe/Berlin:20121222T150000
DTSTAMP:20260422T152633Z
UID:fc7ffa6edc5c4054afa7271bef7bdbf2@zmi.spielboden.at
CREATED:20120910T122307Z
DESCRIPTION:Clowntheater ab 4 Jahren
LAST-MODIFIED:20210809T124601Z
URL:https://zmi.spielboden.at/Plone/veranstaltungen/2012/12_dezember/mimi-
 und-herbert-advent-advent
END:VEVENT
BEGIN:VTIMEZONE
TZID:Europe/Berlin
X-LIC-LOCATION:Europe/Berlin
BEGIN:STANDARD
DTSTART:20121028T020000
TZNAME:CET
TZOFFSETFROM:+0200
TZOFFSETTO:+0100
END:STANDARD
END:VTIMEZONE
END:VCALENDAR
