BEGIN:VCALENDAR
VERSION:2.0
PRODID:-//Plone.org//NONSGML plone.app.event//EN
X-WR-TIMEZONE:Europe/Berlin
BEGIN:VEVENT
SUMMARY:Kindertheatergruppe Koblach: Sag mir\, wie ist Afrika …
DTSTART;TZID=Europe/Berlin:20121215T150000
DTSTAMP:20260422T154335Z
UID:8dece970e75e47398dea3308a96f73f3@zmi.spielboden.at
CREATED:20120910T123015Z
DESCRIPTION:Benefizkindertheater ab 5 Jahren
LAST-MODIFIED:20210809T123409Z
URL:https://zmi.spielboden.at/Plone/veranstaltungen/2012/12_dezember/kinde
 rtheatergruppe-koblach-sag-mir-wie-ist-afrika
END:VEVENT
BEGIN:VTIMEZONE
TZID:Europe/Berlin
X-LIC-LOCATION:Europe/Berlin
BEGIN:STANDARD
DTSTART:20121028T020000
TZNAME:CET
TZOFFSETFROM:+0200
TZOFFSETTO:+0100
END:STANDARD
END:VTIMEZONE
END:VCALENDAR
