BEGIN:VCALENDAR
VERSION:2.0
PRODID:-//Plone.org//NONSGML plone.app.event//EN
X-WR-TIMEZONE:Europe/Berlin
BEGIN:VEVENT
SUMMARY:X-Mas Jazz& – Wolfgang Muthspiel „Vienna naked“ feat. Alegre
  Corrêa\, Alune Wade & Fagner Menezes
DTSTART;TZID=Europe/Berlin:20121227T203000
DTSTAMP:20260422T153516Z
UID:96eec0dd61c94445afd17590c978734f@zmi.spielboden.at
CREATED:20120910T123008Z
DESCRIPTION:Gitarren-Ass Wolfgang Muthspiel als Singersongwriter mit hochk
 arätiger Band
LAST-MODIFIED:20210809T123409Z
URL:https://zmi.spielboden.at/Plone/veranstaltungen/2012/12_dezember/jazz-
 2013-wolfgang-muthspiel-201evienna-naked201c-feat-alegre-correa-alune-wade
END:VEVENT
BEGIN:VTIMEZONE
TZID:Europe/Berlin
X-LIC-LOCATION:Europe/Berlin
BEGIN:STANDARD
DTSTART:20121028T020000
TZNAME:CET
TZOFFSETFROM:+0200
TZOFFSETTO:+0100
END:STANDARD
END:VTIMEZONE
END:VCALENDAR
