BEGIN:VCALENDAR
VERSION:2.0
PRODID:-//Plone.org//NONSGML plone.app.event//EN
X-WR-TIMEZONE:Europe/Berlin
BEGIN:VEVENT
SUMMARY:Jam on Poetry
DTSTART;TZID=Europe/Berlin:20121206T200000
DTSTAMP:20260422T152712Z
UID:7544e62224c04c959538b9c6a84884ba@zmi.spielboden.at
CREATED:20120910T122433Z
LAST-MODIFIED:20121009T100905Z
URL:https://zmi.spielboden.at/Plone/veranstaltungen/2012/12_dezember/jam-o
 n-poetry
END:VEVENT
BEGIN:VTIMEZONE
TZID:Europe/Berlin
X-LIC-LOCATION:Europe/Berlin
BEGIN:STANDARD
DTSTART:20121028T020000
TZNAME:CET
TZOFFSETFROM:+0200
TZOFFSETTO:+0100
END:STANDARD
END:VTIMEZONE
END:VCALENDAR
