BEGIN:VCALENDAR
VERSION:2.0
PRODID:-//Plone.org//NONSGML plone.app.event//EN
X-WR-TIMEZONE:Europe/Berlin
BEGIN:VEVENT
SUMMARY:I ♥ Disco
DTSTART;TZID=Europe/Berlin:20121215T210000
DTSTAMP:20260422T152545Z
UID:7b313319c6b54af2ae1d473c10b5f2d4@zmi.spielboden.at
CREATED:20120910T122710Z
LAST-MODIFIED:20210809T125850Z
URL:https://zmi.spielboden.at/Plone/veranstaltungen/2012/12_dezember/i-266
 5-disco
END:VEVENT
BEGIN:VTIMEZONE
TZID:Europe/Berlin
X-LIC-LOCATION:Europe/Berlin
BEGIN:STANDARD
DTSTART:20121028T020000
TZNAME:CET
TZOFFSETFROM:+0200
TZOFFSETTO:+0100
END:STANDARD
END:VTIMEZONE
END:VCALENDAR
