BEGIN:VCALENDAR
VERSION:2.0
PRODID:-//Plone.org//NONSGML plone.app.event//EN
X-WR-TIMEZONE:Europe/Berlin
BEGIN:VEVENT
SUMMARY:Glauben ist alles!
DTSTART;TZID=Europe/Berlin:20121204T193000
DTSTAMP:20260422T152630Z
UID:32234cc0c6834f73b968498a029faab0@zmi.spielboden.at
CREATED:20120918T092311Z
DESCRIPTION:Eine Veranstaltung des Jüdischen Museums Hohenems in Kooperat
 ion mit dem Spielboden Dornbirn.
LAST-MODIFIED:20210809T123448Z
URL:https://zmi.spielboden.at/Plone/veranstaltungen/2012/12_dezember/glaub
 en-ist-alles
END:VEVENT
BEGIN:VTIMEZONE
TZID:Europe/Berlin
X-LIC-LOCATION:Europe/Berlin
BEGIN:STANDARD
DTSTART:20121028T020000
TZNAME:CET
TZOFFSETFROM:+0200
TZOFFSETTO:+0100
END:STANDARD
END:VTIMEZONE
END:VCALENDAR
