BEGIN:VCALENDAR
VERSION:2.0
PRODID:-//Plone.org//NONSGML plone.app.event//EN
X-WR-TIMEZONE:Europe/Berlin
BEGIN:VEVENT
SUMMARY:Gauls Kinderlieder: Schneehase Nagobert & der klingende Adventkale
 nder
DTSTART;TZID=Europe/Berlin:20121201T150000
DTSTAMP:20260422T153415Z
UID:1d3ddaa47e074b40a143eaf6f951d6b5@zmi.spielboden.at
CREATED:20120910T122350Z
DESCRIPTION:Kindermitmachkonzert ab 4 Jahren
LAST-MODIFIED:20210809T124606Z
URL:https://zmi.spielboden.at/Plone/veranstaltungen/2012/12_dezember/gauls
 -kinderlieder-schneehase-nagobert-der-klingende-adventkalender
END:VEVENT
BEGIN:VTIMEZONE
TZID:Europe/Berlin
X-LIC-LOCATION:Europe/Berlin
BEGIN:STANDARD
DTSTART:20121028T020000
TZNAME:CET
TZOFFSETFROM:+0200
TZOFFSETTO:+0100
END:STANDARD
END:VTIMEZONE
END:VCALENDAR
