BEGIN:VCALENDAR
VERSION:2.0
PRODID:-//Plone.org//NONSGML plone.app.event//EN
X-WR-TIMEZONE:Europe/Berlin
BEGIN:VEVENT
SUMMARY:El Rey
DTSTART;TZID=Europe/Berlin:20121222T193000
DTSTAMP:20260422T170911Z
UID:daf0c138097c4863b37cc8c3f455b457@zmi.spielboden.at
CREATED:20121204T114828Z
LAST-MODIFIED:20210809T123325Z
URL:https://zmi.spielboden.at/Plone/veranstaltungen/2012/12_dezember/el-re
 y
END:VEVENT
BEGIN:VTIMEZONE
TZID:Europe/Berlin
X-LIC-LOCATION:Europe/Berlin
BEGIN:STANDARD
DTSTART:20121028T020000
TZNAME:CET
TZOFFSETFROM:+0200
TZOFFSETTO:+0100
END:STANDARD
END:VTIMEZONE
END:VCALENDAR
