BEGIN:VCALENDAR
VERSION:2.0
PRODID:-//Plone.org//NONSGML plone.app.event//EN
X-WR-TIMEZONE:Europe/Berlin
BEGIN:VEVENT
SUMMARY:X-Mas – Kasperletheater
DTSTART;TZID=Europe/Berlin:20121224T153000
DTSTAMP:20260422T152822Z
UID:1f8ea007351f4650a31ca6f913356420@zmi.spielboden.at
CREATED:20120910T122353Z
LAST-MODIFIED:20210809T124606Z
URL:https://zmi.spielboden.at/Plone/veranstaltungen/2012/12_dezember/copy_
 of_kasperletheater
END:VEVENT
BEGIN:VTIMEZONE
TZID:Europe/Berlin
X-LIC-LOCATION:Europe/Berlin
BEGIN:STANDARD
DTSTART:20121028T020000
TZNAME:CET
TZOFFSETFROM:+0200
TZOFFSETTO:+0100
END:STANDARD
END:VTIMEZONE
END:VCALENDAR
