BEGIN:VCALENDAR
VERSION:2.0
PRODID:-//Plone.org//NONSGML plone.app.event//EN
X-WR-TIMEZONE:Europe/Berlin
BEGIN:VEVENT
SUMMARY:Der Weg nach Mekka – Die Reise des Muhammad Asad
DTSTART;TZID=Europe/Berlin:20121218T193000
DTSTAMP:20260422T153417Z
UID:a2127bb0172b4c2f936b7569767a2f0b@zmi.spielboden.at
CREATED:20120918T093139Z
DESCRIPTION:Eine Veranstaltung des Jüdischen Museums Hohenems in Kooperat
 ion mit dem Spielboden Dornbirn.
LAST-MODIFIED:20210809T123448Z
URL:https://zmi.spielboden.at/Plone/veranstaltungen/2012/12_dezember/copy_
 of_der-weg-nach-mekka-2013-die-reise-des-muhammad-asad-vortrag
END:VEVENT
BEGIN:VTIMEZONE
TZID:Europe/Berlin
X-LIC-LOCATION:Europe/Berlin
BEGIN:STANDARD
DTSTART:20121028T020000
TZNAME:CET
TZOFFSETFROM:+0200
TZOFFSETTO:+0100
END:STANDARD
END:VTIMEZONE
END:VCALENDAR
