BEGIN:VCALENDAR
VERSION:2.0
PRODID:-//Plone.org//NONSGML plone.app.event//EN
X-WR-TIMEZONE:Europe/Berlin
BEGIN:VEVENT
SUMMARY:aktionstheater ensemble: Wir gründen eine Partei
DTSTART;TZID=Europe/Berlin:20121207T203000
DTSTAMP:20260422T171531Z
UID:6885b0a4542849f6a7668dd599d12305@zmi.spielboden.at
CREATED:20121105T093133Z
LAST-MODIFIED:20210809T125944Z
URL:https://zmi.spielboden.at/Plone/veranstaltungen/2012/12_dezember/copy_
 of_aktionstheater-ensemble-wir-gruenden-eine-partei-2013-urauffuehrung
END:VEVENT
BEGIN:VTIMEZONE
TZID:Europe/Berlin
X-LIC-LOCATION:Europe/Berlin
BEGIN:STANDARD
DTSTART:20121028T020000
TZNAME:CET
TZOFFSETFROM:+0200
TZOFFSETTO:+0100
END:STANDARD
END:VTIMEZONE
END:VCALENDAR
