BEGIN:VCALENDAR
VERSION:2.0
PRODID:-//Plone.org//NONSGML plone.app.event//EN
X-WR-TIMEZONE:Europe/Berlin
BEGIN:VEVENT
SUMMARY:Die Ökonomie des Glücks
DTSTART;TZID=Europe/Berlin:20121211T203000
DTSTAMP:20260422T171514Z
UID:0d71192c82514a4a9a58d9c6e18b26b3@zmi.spielboden.at
CREATED:20120912T154758Z
LAST-MODIFIED:20210809T123446Z
URL:https://zmi.spielboden.at/Plone/veranstaltungen/2012/12_dezember/copy2
 _of_projekte-der-hoffnung-wangari-maathai-sekem
END:VEVENT
BEGIN:VTIMEZONE
TZID:Europe/Berlin
X-LIC-LOCATION:Europe/Berlin
BEGIN:STANDARD
DTSTART:20121028T020000
TZNAME:CET
TZOFFSETFROM:+0200
TZOFFSETTO:+0100
END:STANDARD
END:VTIMEZONE
END:VCALENDAR
