BEGIN:VCALENDAR
VERSION:2.0
PRODID:-//Plone.org//NONSGML plone.app.event//EN
X-WR-TIMEZONE:Europe/Berlin
BEGIN:VEVENT
SUMMARY:Oh Yeah\, She Performs
DTSTART;TZID=Europe/Berlin:20121212T203000
DTSTAMP:20260422T170903Z
UID:85fb76bba1334a5586b746849427aac0@zmi.spielboden.at
CREATED:20121002T081741Z
DESCRIPTION:Regie: Mirjam Unger\, A 2012\, 94 min\, dt. OF\n\n
LAST-MODIFIED:20210809T125029Z
URL:https://zmi.spielboden.at/Plone/veranstaltungen/2012/12_dezember/copy2
 _of_oh-yeah-she-performs
END:VEVENT
BEGIN:VTIMEZONE
TZID:Europe/Berlin
X-LIC-LOCATION:Europe/Berlin
BEGIN:STANDARD
DTSTART:20121028T020000
TZNAME:CET
TZOFFSETFROM:+0200
TZOFFSETTO:+0100
END:STANDARD
END:VTIMEZONE
END:VCALENDAR
