BEGIN:VCALENDAR
VERSION:2.0
PRODID:-//Plone.org//NONSGML plone.app.event//EN
X-WR-TIMEZONE:Europe/Berlin
BEGIN:VEVENT
SUMMARY:aktionstheater ensemble: Wir gründen eine Partei
DTSTART;TZID=Europe/Berlin:20121208T203000
DTSTAMP:20260422T172001Z
UID:488fc17813d4463e9015cfcb3f4742ba@zmi.spielboden.at
CREATED:20121105T093133Z
LAST-MODIFIED:20210809T125243Z
URL:https://zmi.spielboden.at/Plone/veranstaltungen/2012/12_dezember/copy2
 _of_aktionstheater-ensemble-wir-gruenden-eine-partei-2013-urauffuehrung
END:VEVENT
BEGIN:VTIMEZONE
TZID:Europe/Berlin
X-LIC-LOCATION:Europe/Berlin
BEGIN:STANDARD
DTSTART:20121028T020000
TZNAME:CET
TZOFFSETFROM:+0200
TZOFFSETTO:+0100
END:STANDARD
END:VTIMEZONE
END:VCALENDAR
